BEGIN:VCALENDAR
VERSION:2.0
PRODID:-//Texas Pumpkin Fest - ECPv6.15.11//NONSGML v1.0//EN
CALSCALE:GREGORIAN
METHOD:PUBLISH
X-WR-CALNAME:Texas Pumpkin Fest
X-ORIGINAL-URL:https://bestpumpkinpatch.com
X-WR-CALDESC:Events for Texas Pumpkin Fest
REFRESH-INTERVAL;VALUE=DURATION:PT1H
X-Robots-Tag:noindex
X-PUBLISHED-TTL:PT1H
BEGIN:VTIMEZONE
TZID:America/Chicago
BEGIN:DAYLIGHT
TZOFFSETFROM:-0600
TZOFFSETTO:-0500
TZNAME:CDT
DTSTART:20240310T080000
END:DAYLIGHT
BEGIN:STANDARD
TZOFFSETFROM:-0500
TZOFFSETTO:-0600
TZNAME:CST
DTSTART:20241103T070000
END:STANDARD
BEGIN:DAYLIGHT
TZOFFSETFROM:-0600
TZOFFSETTO:-0500
TZNAME:CDT
DTSTART:20250309T080000
END:DAYLIGHT
BEGIN:STANDARD
TZOFFSETFROM:-0500
TZOFFSETTO:-0600
TZNAME:CST
DTSTART:20251102T070000
END:STANDARD
BEGIN:DAYLIGHT
TZOFFSETFROM:-0600
TZOFFSETTO:-0500
TZNAME:CDT
DTSTART:20260308T080000
END:DAYLIGHT
BEGIN:STANDARD
TZOFFSETFROM:-0500
TZOFFSETTO:-0600
TZNAME:CST
DTSTART:20261101T070000
END:STANDARD
END:VTIMEZONE
BEGIN:VEVENT
DTSTART;TZID=America/Chicago:20251003T100000
DTEND;TZID=America/Chicago:20251003T210000
DTSTAMP:20260421T065204
CREATED:20250813T133945Z
LAST-MODIFIED:20250818T155336Z
UID:68-1759485600-1759525200@bestpumpkinpatch.com
SUMMARY:Texas Pumpkin Fest 2025
DESCRIPTION:
URL:https://bestpumpkinpatch.com/event/2025-texas-pumpkin-fest/
LOCATION:Texas Pumpkin Fest\, 8760 FM 2243\, Leander\, TX\, 78641\, United States
END:VEVENT
BEGIN:VEVENT
DTSTART;TZID=America/Chicago:20251004T100000
DTEND;TZID=America/Chicago:20251004T210000
DTSTAMP:20260421T065204
CREATED:20250813T181708Z
LAST-MODIFIED:20250818T155315Z
UID:157-1759572000-1759611600@bestpumpkinpatch.com
SUMMARY:Texas Pumpkin Fest 2025
DESCRIPTION:
URL:https://bestpumpkinpatch.com/event/2025-texas-pumpkin-fest-2/
LOCATION:Texas Pumpkin Fest\, 8760 FM 2243\, Leander\, TX\, 78641\, United States
END:VEVENT
BEGIN:VEVENT
DTSTART;TZID=America/Chicago:20251005T100000
DTEND;TZID=America/Chicago:20251005T210000
DTSTAMP:20260421T065204
CREATED:20250813T182627Z
LAST-MODIFIED:20250818T155249Z
UID:160-1759658400-1759698000@bestpumpkinpatch.com
SUMMARY:Texas Pumpkin Fest 2025
DESCRIPTION:
URL:https://bestpumpkinpatch.com/event/2025-texas-pumpkin-fest-3/
LOCATION:Texas Pumpkin Fest\, 8760 FM 2243\, Leander\, TX\, 78641\, United States
END:VEVENT
BEGIN:VEVENT
DTSTART;TZID=America/Chicago:20251010T100000
DTEND;TZID=America/Chicago:20251010T210000
DTSTAMP:20260421T065204
CREATED:20250813T182744Z
LAST-MODIFIED:20250818T155228Z
UID:162-1760090400-1760130000@bestpumpkinpatch.com
SUMMARY:Texas Pumpkin Fest 2025
DESCRIPTION:
URL:https://bestpumpkinpatch.com/event/2025-texas-pumpkin-fest-4/
LOCATION:Texas Pumpkin Fest\, 8760 FM 2243\, Leander\, TX\, 78641\, United States
END:VEVENT
BEGIN:VEVENT
DTSTART;TZID=America/Chicago:20251011T100000
DTEND;TZID=America/Chicago:20251011T210000
DTSTAMP:20260421T065204
CREATED:20250813T182819Z
LAST-MODIFIED:20250818T155205Z
UID:164-1760176800-1760216400@bestpumpkinpatch.com
SUMMARY:Texas Pumpkin Fest 2025
DESCRIPTION:
URL:https://bestpumpkinpatch.com/event/2025-texas-pumpkin-fest-5/
LOCATION:Texas Pumpkin Fest\, 8760 FM 2243\, Leander\, TX\, 78641\, United States
END:VEVENT
BEGIN:VEVENT
DTSTART;TZID=America/Chicago:20251012T100000
DTEND;TZID=America/Chicago:20251012T210000
DTSTAMP:20260421T065204
CREATED:20250813T182858Z
LAST-MODIFIED:20251006T131925Z
UID:166-1760263200-1760302800@bestpumpkinpatch.com
SUMMARY:Texas Pumpkin Fest 2025
DESCRIPTION:
URL:https://bestpumpkinpatch.com/event/2025-texas-pumpkin-fest-6/
LOCATION:Texas Pumpkin Fest\, 8760 FM 2243\, Leander\, TX\, 78641\, United States
END:VEVENT
BEGIN:VEVENT
DTSTART;TZID=America/Chicago:20251013T100000
DTEND;TZID=America/Chicago:20251013T210000
DTSTAMP:20260421T065204
CREATED:20251006T130125Z
LAST-MODIFIED:20251013T165305Z
UID:1734-1760349600-1760389200@bestpumpkinpatch.com
SUMMARY:Texas Pumpkin Fest 2025
DESCRIPTION:
URL:https://bestpumpkinpatch.com/event/texas-pumpkin-fest-2025/
LOCATION:Texas Pumpkin Fest\, 8760 FM 2243\, Leander\, TX\, 78641\, United States
END:VEVENT
BEGIN:VEVENT
DTSTART;TZID=America/Chicago:20251017T100000
DTEND;TZID=America/Chicago:20251017T210000
DTSTAMP:20260421T065204
CREATED:20250813T182942Z
LAST-MODIFIED:20250818T155121Z
UID:168-1760695200-1760734800@bestpumpkinpatch.com
SUMMARY:Texas Pumpkin Fest 2025
DESCRIPTION:
URL:https://bestpumpkinpatch.com/event/2025-texas-pumpkin-fest-7/
LOCATION:Texas Pumpkin Fest\, 8760 FM 2243\, Leander\, TX\, 78641\, United States
END:VEVENT
BEGIN:VEVENT
DTSTART;TZID=America/Chicago:20251018T100000
DTEND;TZID=America/Chicago:20251018T210000
DTSTAMP:20260421T065204
CREATED:20250813T183012Z
LAST-MODIFIED:20250818T155102Z
UID:170-1760781600-1760821200@bestpumpkinpatch.com
SUMMARY:Texas Pumpkin Fest 2025
DESCRIPTION:
URL:https://bestpumpkinpatch.com/event/2025-texas-pumpkin-fest-8/
LOCATION:Texas Pumpkin Fest\, 8760 FM 2243\, Leander\, TX\, 78641\, United States
END:VEVENT
BEGIN:VEVENT
DTSTART;TZID=America/Chicago:20251019T100000
DTEND;TZID=America/Chicago:20251019T210000
DTSTAMP:20260421T065204
CREATED:20250813T183043Z
LAST-MODIFIED:20250818T155038Z
UID:172-1760868000-1760907600@bestpumpkinpatch.com
SUMMARY:Texas Pumpkin Fest 2025
DESCRIPTION:
URL:https://bestpumpkinpatch.com/event/2025-texas-pumpkin-fest-9/
LOCATION:Texas Pumpkin Fest\, 8760 FM 2243\, Leander\, TX\, 78641\, United States
END:VEVENT
BEGIN:VEVENT
DTSTART;TZID=America/Chicago:20251024T100000
DTEND;TZID=America/Chicago:20251024T210000
DTSTAMP:20260421T065204
CREATED:20250813T183128Z
LAST-MODIFIED:20250818T154951Z
UID:174-1761300000-1761339600@bestpumpkinpatch.com
SUMMARY:Texas Pumpkin Fest 2025
DESCRIPTION:
URL:https://bestpumpkinpatch.com/event/2025-texas-pumpkin-fest-10/
LOCATION:Texas Pumpkin Fest\, 8760 FM 2243\, Leander\, TX\, 78641\, United States
END:VEVENT
BEGIN:VEVENT
DTSTART;TZID=America/Chicago:20251025T100000
DTEND;TZID=America/Chicago:20251025T210000
DTSTAMP:20260421T065204
CREATED:20250813T183225Z
LAST-MODIFIED:20251013T165333Z
UID:176-1761386400-1761426000@bestpumpkinpatch.com
SUMMARY:Texas Pumpkin Fest 2025
DESCRIPTION:
URL:https://bestpumpkinpatch.com/event/2025-texas-pumpkin-fest-11/
LOCATION:Texas Pumpkin Fest\, 8760 FM 2243\, Leander\, TX\, 78641\, United States
END:VEVENT
BEGIN:VEVENT
DTSTART;TZID=America/Chicago:20251026T100000
DTEND;TZID=America/Chicago:20251026T210000
DTSTAMP:20260421T065204
CREATED:20250813T183304Z
LAST-MODIFIED:20250818T154903Z
UID:178-1761472800-1761512400@bestpumpkinpatch.com
SUMMARY:Texas Pumpkin Fest 2025
DESCRIPTION:
URL:https://bestpumpkinpatch.com/event/2025-texas-pumpkin-fest-12/
LOCATION:Texas Pumpkin Fest\, 8760 FM 2243\, Leander\, TX\, 78641\, United States
END:VEVENT
BEGIN:VEVENT
DTSTART;TZID=America/Chicago:20251030T100000
DTEND;TZID=America/Chicago:20251030T210000
DTSTAMP:20260421T065204
CREATED:20251027T200346Z
LAST-MODIFIED:20251028T124746Z
UID:6800-1761818400-1761858000@bestpumpkinpatch.com
SUMMARY:Texas Pumpkin Fest 2025
DESCRIPTION:
URL:https://bestpumpkinpatch.com/event/texas-pumpkin-fest-2025-2/
LOCATION:Texas Pumpkin Fest\, 8760 FM 2243\, Leander\, TX\, 78641\, United States
END:VEVENT
BEGIN:VEVENT
DTSTART;TZID=America/Chicago:20251031T100000
DTEND;TZID=America/Chicago:20251031T210000
DTSTAMP:20260421T065204
CREATED:20250813T183350Z
LAST-MODIFIED:20251028T124840Z
UID:180-1761904800-1761944400@bestpumpkinpatch.com
SUMMARY:Texas Pumpkin Fest 2025
DESCRIPTION:
URL:https://bestpumpkinpatch.com/event/2025-texas-pumpkin-fest-13/
LOCATION:Texas Pumpkin Fest\, 8760 FM 2243\, Leander\, TX\, 78641\, United States
END:VEVENT
END:VCALENDAR